BEGIN:VCALENDAR
VERSION:2.0
PRODID:-//St Lawrence - Sacred Heart - ECPv6.15.20//NONSGML v1.0//EN
CALSCALE:GREGORIAN
METHOD:PUBLISH
X-WR-CALNAME:St Lawrence - Sacred Heart
X-ORIGINAL-URL:https://stlawrence-sacredheart.org/es
X-WR-CALDESC:Eventos para St Lawrence - Sacred Heart
REFRESH-INTERVAL;VALUE=DURATION:PT1H
X-Robots-Tag:noindex
X-PUBLISHED-TTL:PT1H
BEGIN:VTIMEZONE
TZID:America/New_York
BEGIN:DAYLIGHT
TZOFFSETFROM:-0500
TZOFFSETTO:-0400
TZNAME:EDT
DTSTART:20250309T070000
END:DAYLIGHT
BEGIN:STANDARD
TZOFFSETFROM:-0400
TZOFFSETTO:-0500
TZNAME:EST
DTSTART:20251102T060000
END:STANDARD
BEGIN:DAYLIGHT
TZOFFSETFROM:-0500
TZOFFSETTO:-0400
TZNAME:EDT
DTSTART:20260308T070000
END:DAYLIGHT
BEGIN:STANDARD
TZOFFSETFROM:-0400
TZOFFSETTO:-0500
TZNAME:EST
DTSTART:20261101T060000
END:STANDARD
BEGIN:DAYLIGHT
TZOFFSETFROM:-0500
TZOFFSETTO:-0400
TZNAME:EDT
DTSTART:20270314T070000
END:DAYLIGHT
BEGIN:STANDARD
TZOFFSETFROM:-0400
TZOFFSETTO:-0500
TZNAME:EST
DTSTART:20271107T060000
END:STANDARD
END:VTIMEZONE
BEGIN:VEVENT
DTSTART;TZID=America/New_York:20260417T190000
DTEND;TZID=America/New_York:20260417T203000
DTSTAMP:20260419T152721
CREATED:20260310T145235Z
LAST-MODIFIED:20260310T145235Z
UID:10003481-1776452400-1776457800@stlawrence-sacredheart.org
SUMMARY:I Alone Love You — Peter and Mary Magdalene
DESCRIPTION:
URL:https://stlawrence-sacredheart.org/es/event/i-alone-love-you-peter-and-mary-magdalene/
LOCATION:St Lawrence O’Toole Church\, 11 Eastview Ave\, Brewster\, NY\, 10509\, United States
CATEGORIES:Special Events
ATTACH;FMTTYPE=image/jpeg:https://stlawrence-sacredheart.org/wp-content/uploads/2026/03/Event-_Italian-Storytellers-scaled.jpg
ORGANIZER;CN="Lynda Holler":MAILTO:slotlynda@gmail.com
END:VEVENT
BEGIN:VEVENT
DTSTART;TZID=America/New_York:20260415T190000
DTEND;TZID=America/New_York:20260415T210000
DTSTAMP:20260419T152721
CREATED:20260123T132203Z
LAST-MODIFIED:20260406T184557Z
UID:10003463-1776279600-1776286800@stlawrence-sacredheart.org
SUMMARY:Proyecto El Rescate
DESCRIPTION:
URL:https://stlawrence-sacredheart.org/es/event/proyecto-el-rescate/2026-04-15/
CATEGORIES:Eventos en Española,Special Events
ATTACH;FMTTYPE=image/jpeg:https://stlawrence-sacredheart.org/wp-content/uploads/2026/01/Event-_Rescue-Prj-Spanish-scaled.jpg
END:VEVENT
BEGIN:VEVENT
DTSTART;TZID=America/New_York:20260415T190000
DTEND;TZID=America/New_York:20260415T210000
DTSTAMP:20260419T152721
CREATED:20260123T131547Z
LAST-MODIFIED:20260203T165420Z
UID:10003471-1776279600-1776286800@stlawrence-sacredheart.org
SUMMARY:Rescue Project - English
DESCRIPTION:
URL:https://stlawrence-sacredheart.org/es/event/rescue-project-english/2026-04-15/
LOCATION:SLOT Parish Center\, large conference room\, 11 Eastview Ave\, Brewster\, NY\, 10509\, United States
CATEGORIES:For Men,For Women,Special Events
ATTACH;FMTTYPE=image/jpeg:https://stlawrence-sacredheart.org/wp-content/uploads/2026/01/Event-_Rescue-Prj-English-scaled.jpg
ORGANIZER;CN="Lynda Holler":MAILTO:slotlynda@gmail.com
END:VEVENT
BEGIN:VEVENT
DTSTART;TZID=America/New_York:20260411T080000
DTEND;TZID=America/New_York:20260411T170000
DTSTAMP:20260419T152721
CREATED:20260123T132203Z
LAST-MODIFIED:20260406T184557Z
UID:10003462-1775894400-1775926800@stlawrence-sacredheart.org
SUMMARY:Proyecto El Rescate
DESCRIPTION:
URL:https://stlawrence-sacredheart.org/es/event/proyecto-el-rescate/2026-04-11/
CATEGORIES:Eventos en Española,Special Events
ATTACH;FMTTYPE=image/jpeg:https://stlawrence-sacredheart.org/wp-content/uploads/2026/01/Event-_Rescue-Prj-Spanish-scaled.jpg
END:VEVENT
BEGIN:VEVENT
DTSTART;TZID=America/New_York:20260409T190000
DTEND;TZID=America/New_York:20260409T210000
DTSTAMP:20260419T152721
CREATED:20260106T170441Z
LAST-MODIFIED:20260106T170441Z
UID:10003246-1775761200-1775768400@stlawrence-sacredheart.org
SUMMARY:Scripture Study – The Gospel According to John Part 1
DESCRIPTION:
URL:https://stlawrence-sacredheart.org/es/event/scripture-study-the-gospel-according-to-john-part-1-2/2026-04-09/
LOCATION:New York Room\, 11 Eastview Ave\, Brewster\, NY\, 10509\, United States
CATEGORIES:Adult Faith Formation
ATTACH;FMTTYPE=image/jpeg:https://stlawrence-sacredheart.org/wp-content/uploads/2025/12/Event-_gospel-of-john-scaled.jpg
ORGANIZER;CN="Lynda Holler":MAILTO:slotlynda@gmail.com
END:VEVENT
BEGIN:VEVENT
DTSTART;TZID=America/New_York:20260409T093000
DTEND;TZID=America/New_York:20260409T113000
DTSTAMP:20260419T152721
CREATED:20251223T215407Z
LAST-MODIFIED:20251223T215407Z
UID:10003239-1775727000-1775734200@stlawrence-sacredheart.org
SUMMARY:Scripture Study – The Gospel According to John Part 1
DESCRIPTION:
URL:https://stlawrence-sacredheart.org/es/event/scripture-study-the-gospel-according-to-john-part-1/2026-04-09/
LOCATION:SLOT Parish Center\, large conference room\, 11 Eastview Ave\, Brewster\, NY\, 10509\, United States
CATEGORIES:Adult Faith Formation
ATTACH;FMTTYPE=image/jpeg:https://stlawrence-sacredheart.org/wp-content/uploads/2025/12/Event-_gospel-of-john-scaled.jpg
ORGANIZER;CN="Lynda Holler":MAILTO:slotlynda@gmail.com
END:VEVENT
BEGIN:VEVENT
DTSTART;TZID=America/New_York:20260408T190000
DTEND;TZID=America/New_York:20260408T210000
DTSTAMP:20260419T152721
CREATED:20260123T132203Z
LAST-MODIFIED:20260406T184557Z
UID:10003461-1775674800-1775682000@stlawrence-sacredheart.org
SUMMARY:Proyecto El Rescate
DESCRIPTION:
URL:https://stlawrence-sacredheart.org/es/event/proyecto-el-rescate/2026-04-08/
CATEGORIES:Eventos en Española,Special Events
ATTACH;FMTTYPE=image/jpeg:https://stlawrence-sacredheart.org/wp-content/uploads/2026/01/Event-_Rescue-Prj-Spanish-scaled.jpg
END:VEVENT
BEGIN:VEVENT
DTSTART;TZID=America/New_York:20260408T190000
DTEND;TZID=America/New_York:20260408T210000
DTSTAMP:20260419T152721
CREATED:20260123T131547Z
LAST-MODIFIED:20260203T165420Z
UID:10003470-1775674800-1775682000@stlawrence-sacredheart.org
SUMMARY:Rescue Project - English
DESCRIPTION:
URL:https://stlawrence-sacredheart.org/es/event/rescue-project-english/2026-04-08/
LOCATION:SLOT Parish Center\, large conference room\, 11 Eastview Ave\, Brewster\, NY\, 10509\, United States
CATEGORIES:For Men,For Women,Special Events
ATTACH;FMTTYPE=image/jpeg:https://stlawrence-sacredheart.org/wp-content/uploads/2026/01/Event-_Rescue-Prj-English-scaled.jpg
ORGANIZER;CN="Lynda Holler":MAILTO:slotlynda@gmail.com
END:VEVENT
BEGIN:VEVENT
DTSTART;TZID=America/New_York:20260405T080000
DTEND;TZID=America/New_York:20260405T153000
DTSTAMP:20260419T152721
CREATED:20260317T181637Z
LAST-MODIFIED:20260317T181716Z
UID:10003611-1775376000-1775403000@stlawrence-sacredheart.org
SUMMARY:Triduum & Easter
DESCRIPTION:
URL:https://stlawrence-sacredheart.org/es/event/triduum-easter/2026-04-05/
CATEGORIES:Special Events
ATTACH;FMTTYPE=image/jpeg:https://stlawrence-sacredheart.org/wp-content/uploads/2026/03/Event-_Triduum-Easter-scaled.jpg
END:VEVENT
BEGIN:VEVENT
DTSTART;TZID=America/New_York:20260404T200000
DTEND;TZID=America/New_York:20260404T220000
DTSTAMP:20260419T152721
CREATED:20260317T181637Z
LAST-MODIFIED:20260317T181716Z
UID:10003610-1775332800-1775340000@stlawrence-sacredheart.org
SUMMARY:Triduum & Easter
DESCRIPTION:
URL:https://stlawrence-sacredheart.org/es/event/triduum-easter/2026-04-04/
CATEGORIES:Special Events
ATTACH;FMTTYPE=image/jpeg:https://stlawrence-sacredheart.org/wp-content/uploads/2026/03/Event-_Triduum-Easter-scaled.jpg
END:VEVENT
BEGIN:VEVENT
DTSTART;TZID=America/New_York:20260403T080000
DTEND;TZID=America/New_York:20260403T200000
DTSTAMP:20260419T152721
CREATED:20260317T181637Z
LAST-MODIFIED:20260317T181716Z
UID:10003609-1775203200-1775246400@stlawrence-sacredheart.org
SUMMARY:Triduum & Easter
DESCRIPTION:
URL:https://stlawrence-sacredheart.org/es/event/triduum-easter/2026-04-03/
CATEGORIES:Special Events
ATTACH;FMTTYPE=image/jpeg:https://stlawrence-sacredheart.org/wp-content/uploads/2026/03/Event-_Triduum-Easter-scaled.jpg
END:VEVENT
BEGIN:VEVENT
DTSTART;TZID=America/New_York:20260402T193000
DTEND;TZID=America/New_York:20260402T210000
DTSTAMP:20260419T152721
CREATED:20260317T181637Z
LAST-MODIFIED:20260317T181716Z
UID:10003608-1775158200-1775163600@stlawrence-sacredheart.org
SUMMARY:Triduum & Easter
DESCRIPTION:
URL:https://stlawrence-sacredheart.org/es/event/triduum-easter/2026-04-02/
CATEGORIES:Special Events
ATTACH;FMTTYPE=image/jpeg:https://stlawrence-sacredheart.org/wp-content/uploads/2026/03/Event-_Triduum-Easter-scaled.jpg
END:VEVENT
BEGIN:VEVENT
DTSTART;TZID=America/New_York:20260401T190000
DTEND;TZID=America/New_York:20260401T210000
DTSTAMP:20260419T152721
CREATED:20260123T132203Z
LAST-MODIFIED:20260406T184557Z
UID:10003460-1775070000-1775077200@stlawrence-sacredheart.org
SUMMARY:Proyecto El Rescate
DESCRIPTION:
URL:https://stlawrence-sacredheart.org/es/event/proyecto-el-rescate/2026-04-01/
CATEGORIES:Eventos en Española,Special Events
ATTACH;FMTTYPE=image/jpeg:https://stlawrence-sacredheart.org/wp-content/uploads/2026/01/Event-_Rescue-Prj-Spanish-scaled.jpg
END:VEVENT
BEGIN:VEVENT
DTSTART;TZID=America/New_York:20260401T190000
DTEND;TZID=America/New_York:20260401T210000
DTSTAMP:20260419T152722
CREATED:20260123T131547Z
LAST-MODIFIED:20260203T165420Z
UID:10003469-1775070000-1775077200@stlawrence-sacredheart.org
SUMMARY:Rescue Project - English
DESCRIPTION:
URL:https://stlawrence-sacredheart.org/es/event/rescue-project-english/2026-04-01/
LOCATION:SLOT Parish Center\, large conference room\, 11 Eastview Ave\, Brewster\, NY\, 10509\, United States
CATEGORIES:For Men,For Women,Special Events
ATTACH;FMTTYPE=image/jpeg:https://stlawrence-sacredheart.org/wp-content/uploads/2026/01/Event-_Rescue-Prj-English-scaled.jpg
ORGANIZER;CN="Lynda Holler":MAILTO:slotlynda@gmail.com
END:VEVENT
BEGIN:VEVENT
DTSTART;TZID=America/New_York:20260330T190000
DTEND;TZID=America/New_York:20260330T203000
DTSTAMP:20260419T152722
CREATED:20260213T130434Z
LAST-MODIFIED:20260317T181907Z
UID:10003479-1774897200-1774902600@stlawrence-sacredheart.org
SUMMARY:Seasons of Praise for Lent
DESCRIPTION:
URL:https://stlawrence-sacredheart.org/es/event/seasons-of-praise-for-lent/2026-03-30/
LOCATION:St Lawrence O’Toole Church\, 11 Eastview Ave\, Brewster\, NY\, 10509\, United States
CATEGORIES:Discipleship,For Men,For Women,For Young Adults,Special Events
ATTACH;FMTTYPE=image/jpeg:https://stlawrence-sacredheart.org/wp-content/uploads/2026/02/Event-_SOP-deacon-scaled.jpg
END:VEVENT
BEGIN:VEVENT
DTSTART;TZID=America/New_York:20260330T020000
DTEND;TZID=America/New_York:20260330T210000
DTSTAMP:20260419T152722
CREATED:20260317T181637Z
LAST-MODIFIED:20260317T181716Z
UID:10003607-1774836000-1774904400@stlawrence-sacredheart.org
SUMMARY:Triduum & Easter
DESCRIPTION:
URL:https://stlawrence-sacredheart.org/es/event/triduum-easter/2026-03-30/
CATEGORIES:Special Events
ATTACH;FMTTYPE=image/jpeg:https://stlawrence-sacredheart.org/wp-content/uploads/2026/03/Event-_Triduum-Easter-scaled.jpg
END:VEVENT
BEGIN:VEVENT
DTSTART;TZID=America/New_York:20260326T190000
DTEND;TZID=America/New_York:20260326T210000
DTSTAMP:20260419T152722
CREATED:20260106T170441Z
LAST-MODIFIED:20260106T170441Z
UID:10003245-1774551600-1774558800@stlawrence-sacredheart.org
SUMMARY:Scripture Study – The Gospel According to John Part 1
DESCRIPTION:
URL:https://stlawrence-sacredheart.org/es/event/scripture-study-the-gospel-according-to-john-part-1-2/2026-03-26/
LOCATION:New York Room\, 11 Eastview Ave\, Brewster\, NY\, 10509\, United States
CATEGORIES:Adult Faith Formation
ATTACH;FMTTYPE=image/jpeg:https://stlawrence-sacredheart.org/wp-content/uploads/2025/12/Event-_gospel-of-john-scaled.jpg
ORGANIZER;CN="Lynda Holler":MAILTO:slotlynda@gmail.com
END:VEVENT
BEGIN:VEVENT
DTSTART;TZID=America/New_York:20260326T093000
DTEND;TZID=America/New_York:20260326T113000
DTSTAMP:20260419T152722
CREATED:20251223T215407Z
LAST-MODIFIED:20251223T215407Z
UID:10003238-1774517400-1774524600@stlawrence-sacredheart.org
SUMMARY:Scripture Study – The Gospel According to John Part 1
DESCRIPTION:
URL:https://stlawrence-sacredheart.org/es/event/scripture-study-the-gospel-according-to-john-part-1/2026-03-26/
LOCATION:SLOT Parish Center\, large conference room\, 11 Eastview Ave\, Brewster\, NY\, 10509\, United States
CATEGORIES:Adult Faith Formation
ATTACH;FMTTYPE=image/jpeg:https://stlawrence-sacredheart.org/wp-content/uploads/2025/12/Event-_gospel-of-john-scaled.jpg
ORGANIZER;CN="Lynda Holler":MAILTO:slotlynda@gmail.com
END:VEVENT
BEGIN:VEVENT
DTSTART;TZID=America/New_York:20260325T190000
DTEND;TZID=America/New_York:20260325T210000
DTSTAMP:20260419T152722
CREATED:20260123T132203Z
LAST-MODIFIED:20260406T184557Z
UID:10003459-1774465200-1774472400@stlawrence-sacredheart.org
SUMMARY:Proyecto El Rescate
DESCRIPTION:
URL:https://stlawrence-sacredheart.org/es/event/proyecto-el-rescate/2026-03-25/
CATEGORIES:Eventos en Española,Special Events
ATTACH;FMTTYPE=image/jpeg:https://stlawrence-sacredheart.org/wp-content/uploads/2026/01/Event-_Rescue-Prj-Spanish-scaled.jpg
END:VEVENT
BEGIN:VEVENT
DTSTART;TZID=America/New_York:20260325T190000
DTEND;TZID=America/New_York:20260325T210000
DTSTAMP:20260419T152722
CREATED:20260123T131547Z
LAST-MODIFIED:20260203T165420Z
UID:10003468-1774465200-1774472400@stlawrence-sacredheart.org
SUMMARY:Rescue Project - English
DESCRIPTION:
URL:https://stlawrence-sacredheart.org/es/event/rescue-project-english/2026-03-25/
LOCATION:SLOT Parish Center\, large conference room\, 11 Eastview Ave\, Brewster\, NY\, 10509\, United States
CATEGORIES:For Men,For Women,Special Events
ATTACH;FMTTYPE=image/jpeg:https://stlawrence-sacredheart.org/wp-content/uploads/2026/01/Event-_Rescue-Prj-English-scaled.jpg
ORGANIZER;CN="Lynda Holler":MAILTO:slotlynda@gmail.com
END:VEVENT
BEGIN:VEVENT
DTSTART;TZID=America/New_York:20260323T190000
DTEND;TZID=America/New_York:20260323T203000
DTSTAMP:20260419T152722
CREATED:20260213T130434Z
LAST-MODIFIED:20260317T181907Z
UID:10003478-1774292400-1774297800@stlawrence-sacredheart.org
SUMMARY:Seasons of Praise for Lent
DESCRIPTION:
URL:https://stlawrence-sacredheart.org/es/event/seasons-of-praise-for-lent/2026-03-23/
LOCATION:St Lawrence O’Toole Church\, 11 Eastview Ave\, Brewster\, NY\, 10509\, United States
CATEGORIES:Discipleship,For Men,For Women,For Young Adults,Special Events
ATTACH;FMTTYPE=image/jpeg:https://stlawrence-sacredheart.org/wp-content/uploads/2026/02/Event-_SOP-deacon-scaled.jpg
END:VEVENT
BEGIN:VEVENT
DTSTART;TZID=America/New_York:20260319T190000
DTEND;TZID=America/New_York:20260319T210000
DTSTAMP:20260419T152722
CREATED:20260106T170441Z
LAST-MODIFIED:20260106T170441Z
UID:10003244-1773946800-1773954000@stlawrence-sacredheart.org
SUMMARY:Scripture Study – The Gospel According to John Part 1
DESCRIPTION:
URL:https://stlawrence-sacredheart.org/es/event/scripture-study-the-gospel-according-to-john-part-1-2/2026-03-19/
LOCATION:New York Room\, 11 Eastview Ave\, Brewster\, NY\, 10509\, United States
CATEGORIES:Adult Faith Formation
ATTACH;FMTTYPE=image/jpeg:https://stlawrence-sacredheart.org/wp-content/uploads/2025/12/Event-_gospel-of-john-scaled.jpg
ORGANIZER;CN="Lynda Holler":MAILTO:slotlynda@gmail.com
END:VEVENT
BEGIN:VEVENT
DTSTART;TZID=America/New_York:20260319T093000
DTEND;TZID=America/New_York:20260319T113000
DTSTAMP:20260419T152722
CREATED:20251223T215407Z
LAST-MODIFIED:20251223T215407Z
UID:10003237-1773912600-1773919800@stlawrence-sacredheart.org
SUMMARY:Scripture Study – The Gospel According to John Part 1
DESCRIPTION:
URL:https://stlawrence-sacredheart.org/es/event/scripture-study-the-gospel-according-to-john-part-1/2026-03-19/
LOCATION:SLOT Parish Center\, large conference room\, 11 Eastview Ave\, Brewster\, NY\, 10509\, United States
CATEGORIES:Adult Faith Formation
ATTACH;FMTTYPE=image/jpeg:https://stlawrence-sacredheart.org/wp-content/uploads/2025/12/Event-_gospel-of-john-scaled.jpg
ORGANIZER;CN="Lynda Holler":MAILTO:slotlynda@gmail.com
END:VEVENT
BEGIN:VEVENT
DTSTART;TZID=America/New_York:20260318T190000
DTEND;TZID=America/New_York:20260318T210000
DTSTAMP:20260419T152722
CREATED:20260123T132203Z
LAST-MODIFIED:20260406T184557Z
UID:10003458-1773860400-1773867600@stlawrence-sacredheart.org
SUMMARY:Proyecto El Rescate
DESCRIPTION:
URL:https://stlawrence-sacredheart.org/es/event/proyecto-el-rescate/2026-03-18/
CATEGORIES:Eventos en Española,Special Events
ATTACH;FMTTYPE=image/jpeg:https://stlawrence-sacredheart.org/wp-content/uploads/2026/01/Event-_Rescue-Prj-Spanish-scaled.jpg
END:VEVENT
BEGIN:VEVENT
DTSTART;TZID=America/New_York:20260318T190000
DTEND;TZID=America/New_York:20260318T210000
DTSTAMP:20260419T152722
CREATED:20260123T131547Z
LAST-MODIFIED:20260203T165420Z
UID:10003467-1773860400-1773867600@stlawrence-sacredheart.org
SUMMARY:Rescue Project - English
DESCRIPTION:
URL:https://stlawrence-sacredheart.org/es/event/rescue-project-english/2026-03-18/
LOCATION:SLOT Parish Center\, large conference room\, 11 Eastview Ave\, Brewster\, NY\, 10509\, United States
CATEGORIES:For Men,For Women,Special Events
ATTACH;FMTTYPE=image/jpeg:https://stlawrence-sacredheart.org/wp-content/uploads/2026/01/Event-_Rescue-Prj-English-scaled.jpg
ORGANIZER;CN="Lynda Holler":MAILTO:slotlynda@gmail.com
END:VEVENT
BEGIN:VEVENT
DTSTART;TZID=America/New_York:20260316T190000
DTEND;TZID=America/New_York:20260316T203000
DTSTAMP:20260419T152722
CREATED:20260213T130434Z
LAST-MODIFIED:20260317T181907Z
UID:10003477-1773687600-1773693000@stlawrence-sacredheart.org
SUMMARY:Seasons of Praise for Lent
DESCRIPTION:
URL:https://stlawrence-sacredheart.org/es/event/seasons-of-praise-for-lent/2026-03-16/
LOCATION:St Lawrence O’Toole Church\, 11 Eastview Ave\, Brewster\, NY\, 10509\, United States
CATEGORIES:Discipleship,For Men,For Women,For Young Adults,Special Events
ATTACH;FMTTYPE=image/jpeg:https://stlawrence-sacredheart.org/wp-content/uploads/2026/02/Event-_SOP-deacon-scaled.jpg
END:VEVENT
BEGIN:VEVENT
DTSTART;TZID=America/New_York:20260312T190000
DTEND;TZID=America/New_York:20260312T210000
DTSTAMP:20260419T152722
CREATED:20260106T170441Z
LAST-MODIFIED:20260106T170441Z
UID:10003243-1773342000-1773349200@stlawrence-sacredheart.org
SUMMARY:Scripture Study – The Gospel According to John Part 1
DESCRIPTION:
URL:https://stlawrence-sacredheart.org/es/event/scripture-study-the-gospel-according-to-john-part-1-2/2026-03-12/
LOCATION:New York Room\, 11 Eastview Ave\, Brewster\, NY\, 10509\, United States
CATEGORIES:Adult Faith Formation
ATTACH;FMTTYPE=image/jpeg:https://stlawrence-sacredheart.org/wp-content/uploads/2025/12/Event-_gospel-of-john-scaled.jpg
ORGANIZER;CN="Lynda Holler":MAILTO:slotlynda@gmail.com
END:VEVENT
BEGIN:VEVENT
DTSTART;TZID=America/New_York:20260312T093000
DTEND;TZID=America/New_York:20260312T113000
DTSTAMP:20260419T152722
CREATED:20251223T215407Z
LAST-MODIFIED:20251223T215407Z
UID:10003236-1773307800-1773315000@stlawrence-sacredheart.org
SUMMARY:Scripture Study – The Gospel According to John Part 1
DESCRIPTION:
URL:https://stlawrence-sacredheart.org/es/event/scripture-study-the-gospel-according-to-john-part-1/2026-03-12/
LOCATION:SLOT Parish Center\, large conference room\, 11 Eastview Ave\, Brewster\, NY\, 10509\, United States
CATEGORIES:Adult Faith Formation
ATTACH;FMTTYPE=image/jpeg:https://stlawrence-sacredheart.org/wp-content/uploads/2025/12/Event-_gospel-of-john-scaled.jpg
ORGANIZER;CN="Lynda Holler":MAILTO:slotlynda@gmail.com
END:VEVENT
BEGIN:VEVENT
DTSTART;TZID=America/New_York:20260311T190000
DTEND;TZID=America/New_York:20260311T210000
DTSTAMP:20260419T152722
CREATED:20260123T132203Z
LAST-MODIFIED:20260406T184557Z
UID:10003457-1773255600-1773262800@stlawrence-sacredheart.org
SUMMARY:Proyecto El Rescate
DESCRIPTION:
URL:https://stlawrence-sacredheart.org/es/event/proyecto-el-rescate/2026-03-11/
CATEGORIES:Eventos en Española,Special Events
ATTACH;FMTTYPE=image/jpeg:https://stlawrence-sacredheart.org/wp-content/uploads/2026/01/Event-_Rescue-Prj-Spanish-scaled.jpg
END:VEVENT
BEGIN:VEVENT
DTSTART;TZID=America/New_York:20260311T190000
DTEND;TZID=America/New_York:20260311T210000
DTSTAMP:20260419T152722
CREATED:20260123T131547Z
LAST-MODIFIED:20260203T165420Z
UID:10003466-1773255600-1773262800@stlawrence-sacredheart.org
SUMMARY:Rescue Project - English
DESCRIPTION:
URL:https://stlawrence-sacredheart.org/es/event/rescue-project-english/2026-03-11/
LOCATION:SLOT Parish Center\, large conference room\, 11 Eastview Ave\, Brewster\, NY\, 10509\, United States
CATEGORIES:For Men,For Women,Special Events
ATTACH;FMTTYPE=image/jpeg:https://stlawrence-sacredheart.org/wp-content/uploads/2026/01/Event-_Rescue-Prj-English-scaled.jpg
ORGANIZER;CN="Lynda Holler":MAILTO:slotlynda@gmail.com
END:VEVENT
END:VCALENDAR