BEGIN:VCALENDAR
VERSION:2.0
PRODID:-//St Lawrence - Sacred Heart - ECPv6.15.20//NONSGML v1.0//EN
CALSCALE:GREGORIAN
METHOD:PUBLISH
X-ORIGINAL-URL:https://stlawrence-sacredheart.org
X-WR-CALDESC:Events for St Lawrence - Sacred Heart
REFRESH-INTERVAL;VALUE=DURATION:PT1H
X-Robots-Tag:noindex
X-PUBLISHED-TTL:PT1H
BEGIN:VTIMEZONE
TZID:America/New_York
BEGIN:DAYLIGHT
TZOFFSETFROM:-0500
TZOFFSETTO:-0400
TZNAME:EDT
DTSTART:20240310T070000
END:DAYLIGHT
BEGIN:STANDARD
TZOFFSETFROM:-0400
TZOFFSETTO:-0500
TZNAME:EST
DTSTART:20241103T060000
END:STANDARD
BEGIN:DAYLIGHT
TZOFFSETFROM:-0500
TZOFFSETTO:-0400
TZNAME:EDT
DTSTART:20250309T070000
END:DAYLIGHT
BEGIN:STANDARD
TZOFFSETFROM:-0400
TZOFFSETTO:-0500
TZNAME:EST
DTSTART:20251102T060000
END:STANDARD
BEGIN:DAYLIGHT
TZOFFSETFROM:-0500
TZOFFSETTO:-0400
TZNAME:EDT
DTSTART:20260308T070000
END:DAYLIGHT
BEGIN:STANDARD
TZOFFSETFROM:-0400
TZOFFSETTO:-0500
TZNAME:EST
DTSTART:20261101T060000
END:STANDARD
BEGIN:DAYLIGHT
TZOFFSETFROM:-0500
TZOFFSETTO:-0400
TZNAME:EDT
DTSTART:20270314T070000
END:DAYLIGHT
BEGIN:STANDARD
TZOFFSETFROM:-0400
TZOFFSETTO:-0500
TZNAME:EST
DTSTART:20271107T060000
END:STANDARD
END:VTIMEZONE
BEGIN:VEVENT
DTSTART;TZID=America/New_York:20260221T083000
DTEND;TZID=America/New_York:20260221T150000
DTSTAMP:20260419T120832
CREATED:20260106T135434Z
LAST-MODIFIED:20260106T140816Z
UID:10003315-1771662600-1771686000@stlawrence-sacredheart.org
SUMMARY:Prayer for Life Formation Day
DESCRIPTION:You are invite you to join us for Prayer for Life Formation Day. This a special opportunity to come together in faith and deepen our understanding of prayer’s vital role in building a culture of life. \nThroughout the day\, we will explore: \n• The power and practice of intercessory prayer\n•  Ways to host Holy Hours for Life\n•  The spirituality of prayer and witness in defense of human life \nPrayer and intercession are essential to fostering a culture that values and protects life. Through prayer\, we unite ourselves to the Lord’s work of transforming hearts\, opening ourselves to the Holy Spirit\, and receiving a renewed outpouring of His life and love. This openness allows God’s grace to bear fruit—both in our own lives and in the world around us. \n“A great prayer for life is urgently needed\, a prayer which will rise up throughout the world.”\n— Pope St. John Paul II\, Evangelium Vitae \n Guest Speakers \nMary Martin\, a pastoral leader with extensive experience\, currently works at UTG at Work\, guiding individuals on sharing the Gospel in their workplaces. She is also a certified Spiritual Director at the Catherine of Siena Institute and is involved with organizations like St. Paul of the Cross Retreat Center and Mary’s Mantle.  \nSisters of Life\, known for their holistic approach\, focus on defending human life through various programs such as supporting women in challenging situations\, hosting retreats\, evangelizing\, assisting students\, and providing post-abortion care\, collaborating closely with the Respect Life Office in the Archdiocese of New York.  \nREGISTER \nFEE: $20
URL:https://stlawrence-sacredheart.org/event/prayer-for-life-formation-day/
LOCATION:St Lawrence O’Toole Church\, 11 Eastview Ave\, Brewster\, NY\, 10509\, United States
CATEGORIES:Special Events
ATTACH;FMTTYPE=image/jpeg:https://stlawrence-sacredheart.org/wp-content/uploads/2026/01/Event-_Srs-of-life-prayer-formation-day-FEB-21-scaled.jpg
ORGANIZER;CN="Julie Noce":MAILTO:director@giannashouseinc.org
END:VEVENT
BEGIN:VEVENT
DTSTART;TZID=America/New_York:20260219T190000
DTEND;TZID=America/New_York:20260219T210000
DTSTAMP:20260419T120832
CREATED:20260106T170441Z
LAST-MODIFIED:20260106T170441Z
UID:10003240-1771527600-1771534800@stlawrence-sacredheart.org
SUMMARY:Scripture Study – The Gospel According to John Part 1
DESCRIPTION:The Gospel of John is a testament to the divine nature of Jesus\, the Word made flesh\, the Light of the World. Part One of our study (John 1‒10) covers the magnificent prologue of John’s Gospel and a significant portion of Jesus’ ministry. This ministry is highlighted by miraculous “signs” that reveal Jesus’ true nature and his relationship with the Father. Join us to better understand this important work. \nREGISTER
URL:https://stlawrence-sacredheart.org/event/scripture-study-the-gospel-according-to-john-part-1-2/2026-02-19/
LOCATION:New York Room\, 11 Eastview Ave\, Brewster\, NY\, 10509\, United States
CATEGORIES:Adult Faith Formation
ATTACH;FMTTYPE=image/jpeg:https://stlawrence-sacredheart.org/wp-content/uploads/2025/12/Event-_gospel-of-john-scaled.jpg
ORGANIZER;CN="Lynda Holler":MAILTO:slotlynda@gmail.com
END:VEVENT
BEGIN:VEVENT
DTSTART;TZID=America/New_York:20260219T093000
DTEND;TZID=America/New_York:20260219T113000
DTSTAMP:20260419T120832
CREATED:20251223T215407Z
LAST-MODIFIED:20251223T215407Z
UID:10003233-1771493400-1771500600@stlawrence-sacredheart.org
SUMMARY:Scripture Study – The Gospel According to John Part 1
DESCRIPTION:The Gospel of John is a testament to the divine nature of Jesus\, the Word made flesh\, the Light of the World. Part One of our study (John 1‒10) covers the magnificent prologue of John’s Gospel and a significant portion of Jesus’ ministry. This ministry is highlighted by miraculous “signs” that reveal Jesus’ true nature and his relationship with the Father. Join us to better understand this important work. \nREGISTER
URL:https://stlawrence-sacredheart.org/event/scripture-study-the-gospel-according-to-john-part-1/2026-02-19/
LOCATION:SLOT Parish Center\, large conference room\, 11 Eastview Ave\, Brewster\, NY\, 10509\, United States
CATEGORIES:Adult Faith Formation
ATTACH;FMTTYPE=image/jpeg:https://stlawrence-sacredheart.org/wp-content/uploads/2025/12/Event-_gospel-of-john-scaled.jpg
ORGANIZER;CN="Lynda Holler":MAILTO:slotlynda@gmail.com
END:VEVENT
BEGIN:VEVENT
DTSTART;VALUE=DATE:20260218
DTEND;VALUE=DATE:20260219
DTSTAMP:20260419T120832
CREATED:20260203T173523Z
LAST-MODIFIED:20260203T174258Z
UID:10003473-1771372800-1771459199@stlawrence-sacredheart.org
SUMMARY:Ash Wednesday- February 18
DESCRIPTION:February 18—Ash Wednesday \nAshes distributed at both Masses and Liturgy of the Word Services:  \nSt. Lawrence  \n7:30 am Mass \n8:30 am Mass \n12 noon Liturgy of the Word \n4:30 pm Liturgy of the Word \n6:00 pm Liturgy of the Word \n7:30 pm Mass Spanish \nSacred Heart \n5:00 pm Liturgy of the Word 
URL:https://stlawrence-sacredheart.org/event/ash-wednesday-february-18/
LOCATION:NY
CATEGORIES:Special Events
ATTACH;FMTTYPE=image/jpeg:https://stlawrence-sacredheart.org/wp-content/uploads/2026/02/Event-_Ash-Wednesday-scaled.jpg
END:VEVENT
BEGIN:VEVENT
DTSTART;TZID=America/New_York:20260217T093000
DTEND;TZID=America/New_York:20260217T103000
DTSTAMP:20260419T120832
CREATED:20251223T220512Z
LAST-MODIFIED:20251223T220512Z
UID:10003253-1771320600-1771324200@stlawrence-sacredheart.org
SUMMARY:Mysteries of the Rosary – Joyful: Rediscover the Power of the Rosary
DESCRIPTION:Joy is attractive\, magnetic and contagious! We live in a time of great crisis. So many in our world are tormented with desolation and despair. Our world is desperately in need of a joyful Christian witness. The Mysteries of the Rosary are more than just beads of mindless repetition. We hold in our hands the very power of God. Filmed on location in the Holy Land\, Rome\, Lourdes\, and Paris\, “The Mystery of the Rosary” Joyful video series will draw you into a Gospel exploding with joy! \nREGISTER
URL:https://stlawrence-sacredheart.org/event/mysteries-of-the-rosary-joyful-rediscover-the-power-of-the-rosary/2026-02-17/
LOCATION:SLOT Parish Center\, large conference room\, 11 Eastview Ave\, Brewster\, NY\, 10509\, United States
CATEGORIES:Adult Faith Formation
ATTACH;FMTTYPE=image/jpeg:https://stlawrence-sacredheart.org/wp-content/uploads/2025/12/Event-_joyful-mysteries-scaled.jpg
ORGANIZER;CN="Lynda Holler":MAILTO:slotlynda@gmail.com
END:VEVENT
BEGIN:VEVENT
DTSTART;TZID=America/New_York:20260215T091500
DTEND;TZID=America/New_York:20260215T101500
DTSTAMP:20260419T120832
CREATED:20260106T171033Z
LAST-MODIFIED:20260106T171033Z
UID:10003320-1771146900-1771150500@stlawrence-sacredheart.org
SUMMARY:The Seven Pillars of Catholic Spirituality
DESCRIPTION:What if everything the Catholic Church teaches is true? We live in a culture that assumes that the Catholic Church’s teachings are unrealistic\, false\, or bigoted. Our Christmas present to our parishioners is Matthew Kelly’s book\, The Seven Pillars of Spirituality. Join us for a book discussion; bring a friend. Because if it is all true\, that changes everything\, and people need to know. \nREGISTER
URL:https://stlawrence-sacredheart.org/event/the-seven-pillars-of-catholic-spirituality-2/2026-02-15/
LOCATION:Sacred Heart Church Hall\, 414 Haviland Dr\, Patterson\, NY\, 12563\, United States
CATEGORIES:Adult Faith Formation,Events at Sacred Heart Church
ATTACH;FMTTYPE=image/jpeg:https://stlawrence-sacredheart.org/wp-content/uploads/2025/12/Event-_Seven-pillars-scaled.jpg
ORGANIZER;CN="Lynda Holler":MAILTO:slotlynda@gmail.com
END:VEVENT
BEGIN:VEVENT
DTSTART;TZID=America/New_York:20260211T190000
DTEND;TZID=America/New_York:20260211T200000
DTSTAMP:20260419T120832
CREATED:20251223T213238Z
LAST-MODIFIED:20251223T213238Z
UID:10003115-1770836400-1770840000@stlawrence-sacredheart.org
SUMMARY:Hope and Healing Continues
DESCRIPTION:PATRICK FORD\, PH. D. \nCLINICAL PSYCHOLOGIST \nOvercoming depression\, anxiety\, and emotional suffering from loss\, trauma\, divorce\, or illness requires mental health care that focuses on the whole person. This supportive 6-week series\, led by Dr. Ford\, a Catholic psychologist\, uses mental health tools from faith and science to help you begin your journey to peace and joy. \nREGISTER
URL:https://stlawrence-sacredheart.org/event/hope-and-healing-continues-2/2026-02-11/
LOCATION:New York Room\, 11 Eastview Ave\, Brewster\, NY\, 10509\, United States
CATEGORIES:Adult Faith Formation
ATTACH;FMTTYPE=image/png:https://stlawrence-sacredheart.org/wp-content/uploads/2025/03/Event-English-Hope-and-Healing-Program.png
ORGANIZER;CN="Lynda Holler":MAILTO:slotlynda@gmail.com
END:VEVENT
BEGIN:VEVENT
DTSTART;TZID=America/New_York:20260210T093000
DTEND;TZID=America/New_York:20260210T103000
DTSTAMP:20260419T120832
CREATED:20251223T220512Z
LAST-MODIFIED:20251223T220512Z
UID:10003252-1770715800-1770719400@stlawrence-sacredheart.org
SUMMARY:Mysteries of the Rosary – Joyful: Rediscover the Power of the Rosary
DESCRIPTION:Joy is attractive\, magnetic and contagious! We live in a time of great crisis. So many in our world are tormented with desolation and despair. Our world is desperately in need of a joyful Christian witness. The Mysteries of the Rosary are more than just beads of mindless repetition. We hold in our hands the very power of God. Filmed on location in the Holy Land\, Rome\, Lourdes\, and Paris\, “The Mystery of the Rosary” Joyful video series will draw you into a Gospel exploding with joy! \nREGISTER
URL:https://stlawrence-sacredheart.org/event/mysteries-of-the-rosary-joyful-rediscover-the-power-of-the-rosary/2026-02-10/
LOCATION:SLOT Parish Center\, large conference room\, 11 Eastview Ave\, Brewster\, NY\, 10509\, United States
CATEGORIES:Adult Faith Formation
ATTACH;FMTTYPE=image/jpeg:https://stlawrence-sacredheart.org/wp-content/uploads/2025/12/Event-_joyful-mysteries-scaled.jpg
ORGANIZER;CN="Lynda Holler":MAILTO:slotlynda@gmail.com
END:VEVENT
BEGIN:VEVENT
DTSTART;TZID=America/New_York:20260208T091500
DTEND;TZID=America/New_York:20260208T101500
DTSTAMP:20260419T120832
CREATED:20260106T171033Z
LAST-MODIFIED:20260106T171033Z
UID:10003319-1770542100-1770545700@stlawrence-sacredheart.org
SUMMARY:The Seven Pillars of Catholic Spirituality
DESCRIPTION:What if everything the Catholic Church teaches is true? We live in a culture that assumes that the Catholic Church’s teachings are unrealistic\, false\, or bigoted. Our Christmas present to our parishioners is Matthew Kelly’s book\, The Seven Pillars of Spirituality. Join us for a book discussion; bring a friend. Because if it is all true\, that changes everything\, and people need to know. \nREGISTER
URL:https://stlawrence-sacredheart.org/event/the-seven-pillars-of-catholic-spirituality-2/2026-02-08/
LOCATION:Sacred Heart Church Hall\, 414 Haviland Dr\, Patterson\, NY\, 12563\, United States
CATEGORIES:Adult Faith Formation,Events at Sacred Heart Church
ATTACH;FMTTYPE=image/jpeg:https://stlawrence-sacredheart.org/wp-content/uploads/2025/12/Event-_Seven-pillars-scaled.jpg
ORGANIZER;CN="Lynda Holler":MAILTO:slotlynda@gmail.com
END:VEVENT
BEGIN:VEVENT
DTSTART;TZID=America/New_York:20260204T190000
DTEND;TZID=America/New_York:20260204T200000
DTSTAMP:20260419T120832
CREATED:20251223T213238Z
LAST-MODIFIED:20251223T213238Z
UID:10003114-1770231600-1770235200@stlawrence-sacredheart.org
SUMMARY:Hope and Healing Continues
DESCRIPTION:PATRICK FORD\, PH. D. \nCLINICAL PSYCHOLOGIST \nOvercoming depression\, anxiety\, and emotional suffering from loss\, trauma\, divorce\, or illness requires mental health care that focuses on the whole person. This supportive 6-week series\, led by Dr. Ford\, a Catholic psychologist\, uses mental health tools from faith and science to help you begin your journey to peace and joy. \nREGISTER
URL:https://stlawrence-sacredheart.org/event/hope-and-healing-continues-2/2026-02-04/
LOCATION:New York Room\, 11 Eastview Ave\, Brewster\, NY\, 10509\, United States
CATEGORIES:Adult Faith Formation
ATTACH;FMTTYPE=image/png:https://stlawrence-sacredheart.org/wp-content/uploads/2025/03/Event-English-Hope-and-Healing-Program.png
ORGANIZER;CN="Lynda Holler":MAILTO:slotlynda@gmail.com
END:VEVENT
BEGIN:VEVENT
DTSTART;TZID=America/New_York:20260203T093000
DTEND;TZID=America/New_York:20260203T103000
DTSTAMP:20260419T120832
CREATED:20251223T220512Z
LAST-MODIFIED:20251223T220512Z
UID:10003251-1770111000-1770114600@stlawrence-sacredheart.org
SUMMARY:Mysteries of the Rosary – Joyful: Rediscover the Power of the Rosary
DESCRIPTION:Joy is attractive\, magnetic and contagious! We live in a time of great crisis. So many in our world are tormented with desolation and despair. Our world is desperately in need of a joyful Christian witness. The Mysteries of the Rosary are more than just beads of mindless repetition. We hold in our hands the very power of God. Filmed on location in the Holy Land\, Rome\, Lourdes\, and Paris\, “The Mystery of the Rosary” Joyful video series will draw you into a Gospel exploding with joy! \nREGISTER
URL:https://stlawrence-sacredheart.org/event/mysteries-of-the-rosary-joyful-rediscover-the-power-of-the-rosary/2026-02-03/
LOCATION:SLOT Parish Center\, large conference room\, 11 Eastview Ave\, Brewster\, NY\, 10509\, United States
CATEGORIES:Adult Faith Formation
ATTACH;FMTTYPE=image/jpeg:https://stlawrence-sacredheart.org/wp-content/uploads/2025/12/Event-_joyful-mysteries-scaled.jpg
ORGANIZER;CN="Lynda Holler":MAILTO:slotlynda@gmail.com
END:VEVENT
BEGIN:VEVENT
DTSTART;TZID=America/New_York:20260201T091500
DTEND;TZID=America/New_York:20260201T101500
DTSTAMP:20260419T120832
CREATED:20260106T171033Z
LAST-MODIFIED:20260106T171033Z
UID:10003318-1769937300-1769940900@stlawrence-sacredheart.org
SUMMARY:The Seven Pillars of Catholic Spirituality
DESCRIPTION:What if everything the Catholic Church teaches is true? We live in a culture that assumes that the Catholic Church’s teachings are unrealistic\, false\, or bigoted. Our Christmas present to our parishioners is Matthew Kelly’s book\, The Seven Pillars of Spirituality. Join us for a book discussion; bring a friend. Because if it is all true\, that changes everything\, and people need to know. \nREGISTER
URL:https://stlawrence-sacredheart.org/event/the-seven-pillars-of-catholic-spirituality-2/2026-02-01/
LOCATION:Sacred Heart Church Hall\, 414 Haviland Dr\, Patterson\, NY\, 12563\, United States
CATEGORIES:Adult Faith Formation,Events at Sacred Heart Church
ATTACH;FMTTYPE=image/jpeg:https://stlawrence-sacredheart.org/wp-content/uploads/2025/12/Event-_Seven-pillars-scaled.jpg
ORGANIZER;CN="Lynda Holler":MAILTO:slotlynda@gmail.com
END:VEVENT
BEGIN:VEVENT
DTSTART;TZID=America/New_York:20260128T190000
DTEND;TZID=America/New_York:20260128T200000
DTSTAMP:20260419T120832
CREATED:20251223T213238Z
LAST-MODIFIED:20251223T213238Z
UID:10003113-1769626800-1769630400@stlawrence-sacredheart.org
SUMMARY:Hope and Healing Continues
DESCRIPTION:PATRICK FORD\, PH. D. \nCLINICAL PSYCHOLOGIST \nOvercoming depression\, anxiety\, and emotional suffering from loss\, trauma\, divorce\, or illness requires mental health care that focuses on the whole person. This supportive 6-week series\, led by Dr. Ford\, a Catholic psychologist\, uses mental health tools from faith and science to help you begin your journey to peace and joy. \nREGISTER
URL:https://stlawrence-sacredheart.org/event/hope-and-healing-continues-2/2026-01-28/
LOCATION:New York Room\, 11 Eastview Ave\, Brewster\, NY\, 10509\, United States
CATEGORIES:Adult Faith Formation
ATTACH;FMTTYPE=image/png:https://stlawrence-sacredheart.org/wp-content/uploads/2025/03/Event-English-Hope-and-Healing-Program.png
ORGANIZER;CN="Lynda Holler":MAILTO:slotlynda@gmail.com
END:VEVENT
BEGIN:VEVENT
DTSTART;TZID=America/New_York:20260127T093000
DTEND;TZID=America/New_York:20260127T103000
DTSTAMP:20260419T120832
CREATED:20251223T220512Z
LAST-MODIFIED:20251223T220512Z
UID:10003250-1769506200-1769509800@stlawrence-sacredheart.org
SUMMARY:Mysteries of the Rosary – Joyful: Rediscover the Power of the Rosary
DESCRIPTION:Joy is attractive\, magnetic and contagious! We live in a time of great crisis. So many in our world are tormented with desolation and despair. Our world is desperately in need of a joyful Christian witness. The Mysteries of the Rosary are more than just beads of mindless repetition. We hold in our hands the very power of God. Filmed on location in the Holy Land\, Rome\, Lourdes\, and Paris\, “The Mystery of the Rosary” Joyful video series will draw you into a Gospel exploding with joy! \nREGISTER
URL:https://stlawrence-sacredheart.org/event/mysteries-of-the-rosary-joyful-rediscover-the-power-of-the-rosary/2026-01-27/
LOCATION:SLOT Parish Center\, large conference room\, 11 Eastview Ave\, Brewster\, NY\, 10509\, United States
CATEGORIES:Adult Faith Formation
ATTACH;FMTTYPE=image/jpeg:https://stlawrence-sacredheart.org/wp-content/uploads/2025/12/Event-_joyful-mysteries-scaled.jpg
ORGANIZER;CN="Lynda Holler":MAILTO:slotlynda@gmail.com
END:VEVENT
BEGIN:VEVENT
DTSTART;TZID=America/New_York:20260125T091500
DTEND;TZID=America/New_York:20260125T101500
DTSTAMP:20260419T120832
CREATED:20260106T171033Z
LAST-MODIFIED:20260106T171033Z
UID:10003317-1769332500-1769336100@stlawrence-sacredheart.org
SUMMARY:The Seven Pillars of Catholic Spirituality
DESCRIPTION:What if everything the Catholic Church teaches is true? We live in a culture that assumes that the Catholic Church’s teachings are unrealistic\, false\, or bigoted. Our Christmas present to our parishioners is Matthew Kelly’s book\, The Seven Pillars of Spirituality. Join us for a book discussion; bring a friend. Because if it is all true\, that changes everything\, and people need to know. \nREGISTER
URL:https://stlawrence-sacredheart.org/event/the-seven-pillars-of-catholic-spirituality-2/2026-01-25/
LOCATION:Sacred Heart Church Hall\, 414 Haviland Dr\, Patterson\, NY\, 12563\, United States
CATEGORIES:Adult Faith Formation,Events at Sacred Heart Church
ATTACH;FMTTYPE=image/jpeg:https://stlawrence-sacredheart.org/wp-content/uploads/2025/12/Event-_Seven-pillars-scaled.jpg
ORGANIZER;CN="Lynda Holler":MAILTO:slotlynda@gmail.com
END:VEVENT
BEGIN:VEVENT
DTSTART;TZID=America/New_York:20260121T190000
DTEND;TZID=America/New_York:20260121T200000
DTSTAMP:20260419T120832
CREATED:20251223T213238Z
LAST-MODIFIED:20251223T213238Z
UID:10003112-1769022000-1769025600@stlawrence-sacredheart.org
SUMMARY:Hope and Healing Continues
DESCRIPTION:PATRICK FORD\, PH. D. \nCLINICAL PSYCHOLOGIST \nOvercoming depression\, anxiety\, and emotional suffering from loss\, trauma\, divorce\, or illness requires mental health care that focuses on the whole person. This supportive 6-week series\, led by Dr. Ford\, a Catholic psychologist\, uses mental health tools from faith and science to help you begin your journey to peace and joy. \nREGISTER
URL:https://stlawrence-sacredheart.org/event/hope-and-healing-continues-2/2026-01-21/
LOCATION:New York Room\, 11 Eastview Ave\, Brewster\, NY\, 10509\, United States
CATEGORIES:Adult Faith Formation
ATTACH;FMTTYPE=image/png:https://stlawrence-sacredheart.org/wp-content/uploads/2025/03/Event-English-Hope-and-Healing-Program.png
ORGANIZER;CN="Lynda Holler":MAILTO:slotlynda@gmail.com
END:VEVENT
BEGIN:VEVENT
DTSTART;TZID=America/New_York:20260120T093000
DTEND;TZID=America/New_York:20260120T103000
DTSTAMP:20260419T120832
CREATED:20251223T220512Z
LAST-MODIFIED:20251223T220512Z
UID:10003249-1768901400-1768905000@stlawrence-sacredheart.org
SUMMARY:Mysteries of the Rosary – Joyful: Rediscover the Power of the Rosary
DESCRIPTION:Joy is attractive\, magnetic and contagious! We live in a time of great crisis. So many in our world are tormented with desolation and despair. Our world is desperately in need of a joyful Christian witness. The Mysteries of the Rosary are more than just beads of mindless repetition. We hold in our hands the very power of God. Filmed on location in the Holy Land\, Rome\, Lourdes\, and Paris\, “The Mystery of the Rosary” Joyful video series will draw you into a Gospel exploding with joy! \nREGISTER
URL:https://stlawrence-sacredheart.org/event/mysteries-of-the-rosary-joyful-rediscover-the-power-of-the-rosary/2026-01-20/
LOCATION:SLOT Parish Center\, large conference room\, 11 Eastview Ave\, Brewster\, NY\, 10509\, United States
CATEGORIES:Adult Faith Formation
ATTACH;FMTTYPE=image/jpeg:https://stlawrence-sacredheart.org/wp-content/uploads/2025/12/Event-_joyful-mysteries-scaled.jpg
ORGANIZER;CN="Lynda Holler":MAILTO:slotlynda@gmail.com
END:VEVENT
BEGIN:VEVENT
DTSTART;TZID=America/New_York:20260118T091500
DTEND;TZID=America/New_York:20260118T101500
DTSTAMP:20260419T120832
CREATED:20260106T171033Z
LAST-MODIFIED:20260106T171033Z
UID:10003316-1768727700-1768731300@stlawrence-sacredheart.org
SUMMARY:The Seven Pillars of Catholic Spirituality
DESCRIPTION:What if everything the Catholic Church teaches is true? We live in a culture that assumes that the Catholic Church’s teachings are unrealistic\, false\, or bigoted. Our Christmas present to our parishioners is Matthew Kelly’s book\, The Seven Pillars of Spirituality. Join us for a book discussion; bring a friend. Because if it is all true\, that changes everything\, and people need to know. \nREGISTER
URL:https://stlawrence-sacredheart.org/event/the-seven-pillars-of-catholic-spirituality-2/2026-01-18/
LOCATION:Sacred Heart Church Hall\, 414 Haviland Dr\, Patterson\, NY\, 12563\, United States
CATEGORIES:Adult Faith Formation,Events at Sacred Heart Church
ATTACH;FMTTYPE=image/jpeg:https://stlawrence-sacredheart.org/wp-content/uploads/2025/12/Event-_Seven-pillars-scaled.jpg
ORGANIZER;CN="Lynda Holler":MAILTO:slotlynda@gmail.com
END:VEVENT
BEGIN:VEVENT
DTSTART;TZID=America/New_York:20260114T190000
DTEND;TZID=America/New_York:20260114T200000
DTSTAMP:20260419T120832
CREATED:20251223T213238Z
LAST-MODIFIED:20251223T213238Z
UID:10003111-1768417200-1768420800@stlawrence-sacredheart.org
SUMMARY:Hope and Healing Continues
DESCRIPTION:PATRICK FORD\, PH. D. \nCLINICAL PSYCHOLOGIST \nOvercoming depression\, anxiety\, and emotional suffering from loss\, trauma\, divorce\, or illness requires mental health care that focuses on the whole person. This supportive 6-week series\, led by Dr. Ford\, a Catholic psychologist\, uses mental health tools from faith and science to help you begin your journey to peace and joy. \nREGISTER
URL:https://stlawrence-sacredheart.org/event/hope-and-healing-continues-2/2026-01-14/
LOCATION:New York Room\, 11 Eastview Ave\, Brewster\, NY\, 10509\, United States
CATEGORIES:Adult Faith Formation
ATTACH;FMTTYPE=image/png:https://stlawrence-sacredheart.org/wp-content/uploads/2025/03/Event-English-Hope-and-Healing-Program.png
ORGANIZER;CN="Lynda Holler":MAILTO:slotlynda@gmail.com
END:VEVENT
BEGIN:VEVENT
DTSTART;TZID=America/New_York:20260113T093000
DTEND;TZID=America/New_York:20260113T103000
DTSTAMP:20260419T120832
CREATED:20251223T220512Z
LAST-MODIFIED:20251223T220512Z
UID:10003248-1768296600-1768300200@stlawrence-sacredheart.org
SUMMARY:Mysteries of the Rosary – Joyful: Rediscover the Power of the Rosary
DESCRIPTION:Joy is attractive\, magnetic and contagious! We live in a time of great crisis. So many in our world are tormented with desolation and despair. Our world is desperately in need of a joyful Christian witness. The Mysteries of the Rosary are more than just beads of mindless repetition. We hold in our hands the very power of God. Filmed on location in the Holy Land\, Rome\, Lourdes\, and Paris\, “The Mystery of the Rosary” Joyful video series will draw you into a Gospel exploding with joy! \nREGISTER
URL:https://stlawrence-sacredheart.org/event/mysteries-of-the-rosary-joyful-rediscover-the-power-of-the-rosary/2026-01-13/
LOCATION:SLOT Parish Center\, large conference room\, 11 Eastview Ave\, Brewster\, NY\, 10509\, United States
CATEGORIES:Adult Faith Formation
ATTACH;FMTTYPE=image/jpeg:https://stlawrence-sacredheart.org/wp-content/uploads/2025/12/Event-_joyful-mysteries-scaled.jpg
ORGANIZER;CN="Lynda Holler":MAILTO:slotlynda@gmail.com
END:VEVENT
BEGIN:VEVENT
DTSTART;TZID=America/New_York:20260107T190000
DTEND;TZID=America/New_York:20260107T200000
DTSTAMP:20260419T120832
CREATED:20251223T213238Z
LAST-MODIFIED:20251223T213238Z
UID:10003110-1767812400-1767816000@stlawrence-sacredheart.org
SUMMARY:Hope and Healing Continues
DESCRIPTION:PATRICK FORD\, PH. D. \nCLINICAL PSYCHOLOGIST \nOvercoming depression\, anxiety\, and emotional suffering from loss\, trauma\, divorce\, or illness requires mental health care that focuses on the whole person. This supportive 6-week series\, led by Dr. Ford\, a Catholic psychologist\, uses mental health tools from faith and science to help you begin your journey to peace and joy. \nREGISTER
URL:https://stlawrence-sacredheart.org/event/hope-and-healing-continues-2/2026-01-07/
LOCATION:New York Room\, 11 Eastview Ave\, Brewster\, NY\, 10509\, United States
CATEGORIES:Adult Faith Formation
ATTACH;FMTTYPE=image/png:https://stlawrence-sacredheart.org/wp-content/uploads/2025/03/Event-English-Hope-and-Healing-Program.png
ORGANIZER;CN="Lynda Holler":MAILTO:slotlynda@gmail.com
END:VEVENT
BEGIN:VEVENT
DTSTART;TZID=America/New_York:20260106T093000
DTEND;TZID=America/New_York:20260106T103000
DTSTAMP:20260419T120832
CREATED:20251223T220512Z
LAST-MODIFIED:20251223T220512Z
UID:10003247-1767691800-1767695400@stlawrence-sacredheart.org
SUMMARY:Mysteries of the Rosary – Joyful: Rediscover the Power of the Rosary
DESCRIPTION:Joy is attractive\, magnetic and contagious! We live in a time of great crisis. So many in our world are tormented with desolation and despair. Our world is desperately in need of a joyful Christian witness. The Mysteries of the Rosary are more than just beads of mindless repetition. We hold in our hands the very power of God. Filmed on location in the Holy Land\, Rome\, Lourdes\, and Paris\, “The Mystery of the Rosary” Joyful video series will draw you into a Gospel exploding with joy! \nREGISTER
URL:https://stlawrence-sacredheart.org/event/mysteries-of-the-rosary-joyful-rediscover-the-power-of-the-rosary/2026-01-06/
LOCATION:SLOT Parish Center\, large conference room\, 11 Eastview Ave\, Brewster\, NY\, 10509\, United States
CATEGORIES:Adult Faith Formation
ATTACH;FMTTYPE=image/jpeg:https://stlawrence-sacredheart.org/wp-content/uploads/2025/12/Event-_joyful-mysteries-scaled.jpg
ORGANIZER;CN="Lynda Holler":MAILTO:slotlynda@gmail.com
END:VEVENT
BEGIN:VEVENT
DTSTART;VALUE=DATE:20251231
DTEND;VALUE=DATE:20260102
DTSTAMP:20260419T120832
CREATED:20251219T135614Z
LAST-MODIFIED:20251219T135614Z
UID:10003109-1767139200-1767311999@stlawrence-sacredheart.org
SUMMARY:Solemnity of Mary\, Mother of God
DESCRIPTION:Holy Day of Obligation \nMass Schedule at ST LAWRENCE O’TOOLE \nNew Year’s Eve\n6:00 pm \n7:30  pm Spanish \nNew Year’s Day \n8:30 am \n12 noon
URL:https://stlawrence-sacredheart.org/event/solemnity-of-mary-mother-of-god/
LOCATION:St Lawrence O’Toole Church\, 11 Eastview Ave\, Brewster\, NY\, 10509\, United States
CATEGORIES:Special Events
ATTACH;FMTTYPE=image/jpeg:https://stlawrence-sacredheart.org/wp-content/uploads/2025/12/Event-_NYMASS-SCHEDULE-scaled.jpg
END:VEVENT
END:VCALENDAR